Workbook

Sheet Fljos de Efectivo
A1: COLEGIO PROFESIONAL DE PSICOLOGOS DE COSTA RICA
A2: ESTADO DE FLUJOS DE EFECTIVOS
A3: Por el período terminado el 31 diciembre 2016 y Febrero 2017
A4: (Expresados en colones costarricenses)
B6: 2017 | C6: 2016
A7: Actividades de Operación
A8: Excedentes del período | B8: 1.1258141e+08 | C8: 83917532
A10: Cargas a las operaciones que no requieros efectivo
A11: Depreciaciones y Amortizaciones | B11: 4473383.1 | C11: 25181496
A12: Estimaciones para incobrables | B12: 393017.25 | C12: 643119
A13: Sub-total | B13: 1.1744781e+08 | C13: 109742147
A14: Cambios en activos y pasivos referentes a operaciones
A16: (Aumentos / Disminuciones)
A17: Cuentas por cobrar | B17: -15463088 | C17: -27787333
A18: Inventario | B18: 0 | C18: 0
A19: Gastos prepagados | B19: 491367.17 | C19: 30500
A20: Cuentas a pagar | B20: 3606255.5 | C20: -6135150
A21: Retenciones | B21: 67533.03 | C21: -7176946
A22: Gastos acumulados | B22: 0 | C22: -56662002
A23: Liquidación de intereses a cobrar colegiados | B23: 3.0909998e+08 | C23: 307099298
A24: Provisiones por pagar | B24: 3818563.9 | C24: -1502013
A25: Sub-total | B25: 3.0162061e+08 | C25: 207866354
A27: Efectivo neto provisto en actividades de operación | B27: 4.1906842e+08 | C27: 317608501
A29: Actividades de Inversión
A31: (Aumentos / Disminuciones)
A32: Propiedad, planta y equipo | B32: -334419.93 | C32: -51570132
A33: Otros activos | B33: 1195926 | C33: -7054427
A34: Efectivo neto usado en actividades de inversión | B34: 861506.09 | C34: -58624559
A36: (Aumento / Disminución) Efectivo | B36: 1.1004391e+08 | C36: 258983942
A37: Disponibilidad e Inversión al inicio del período | B37: 28663878 | C37: 92623595
B38: 1.3870779e+08 | C38: 351607537
A42: _____________________________________ | B42: _________________________________,
A43: Waynner Guillén Jiménez | B43: Lic. Erick Raynolds Quiros
A44: Presidente | B44: CPA 2098

Sheet Comparativo Balance Situación
A1: Colegio de Profesionales en Psicología de Costa Rica
A2: Balance de Situación Comparativo
A3: Periodos Comprendidos entre 31 de Diciembre 2018 al 31 de Marzo 2019
A4: (Expresados en colones costarricenses)
E5: Analisis Diferencias
A6: ACTIVOS | B6: NOTAS | C6: 2019 | D6: 2018
A7: Activos corrientes
A8: Caja y Bancos | B8: 3 | C8: 171694063 | D8: 67829056 | E8: 103865007
A9: Inversiones transitorias | B9: 4 | C9: 351691550 | D9: 349555696 | E9: 2135854
A10: Cuentas a cobrar | B10: 5 | C10: 386964587 | D10: 398610680 | E10: -11646092
A11: Gastos prepagados | B11: 6 | C11: 9193601 | D11: 12424669 | E11: -3231068
A12: Total activos corrientes | C12: 919543801 | D12: 828420101 | E12: 91123701
A14: Activos no corrientes
A15: Propiedad, planta y Equipo | B15: 7 | C15: 2350963853 | D15: 2339707747 | E15: 11256107
A16: Depreciación Acumulada | B16: 7 | C16: -97231929 | D16: -80289179 | E16: -16942750
A17: Total activos no corrientes | C17: 2253731924 | D17: 2259418568 | E17: -5686644
A19: Otros activos
A20: Depósitos en Garantía | B20: 8 | C20: 530280 | D20: 530280 | E20: -
A21: Fondos Restringidos | B21: 8 | C21: 906204 | D21: 906204 | E21: -
A22: Sistema Informático | B22: 8 | C22: 36960195 | D22: 36066825 | E22: 893370
A23: Amortización acum.Sistema Informático | B23: 8 | C23: -33815380 | D23: -30466504 | E23: -3348876
C24: 4581299 | D24: 7036805 | E24: -2455506
A26: Total activos | C26: 3177857025 | D26: 3094875474 | E26: 82981551
A28: PASIVOS Y PATRIMONIO
A29: Pasivos corrientes
A30: Cuentas por pagar proveedores | B30: 9 | C30: 7534742 | D30: 11177147 | E30: -3642406
A31: Retenciones a pagar | B31: 9 | C31: 10788763 | D31: 11367337 | E31: -578574
A32: =+#REF! -> #REF! | B32: 9 | C32: 41370322 | D32: 47497286 | E32: -6126964
A33: Gastos acumulados | C33: - | D33: - | E33: -
A34: Provisiones por pagar | B34: 9 | C34: 34094942 | D34: 27854127 | E34: 6240815
A35: Pasivos corrientes | C35: 93788768 | D35: 97895897 | E35: -4107129
A37: Pasivos No Corrientes
A38: Préstamo Largo Plazo | B38: 9 | C38: 1343504539 | D38: 1355857883 | E38: -12353344
A39: Total Pasivos NO Corrientes | C39: 1343504539 | D39: 1355857883 | E39: -12353344
A42: Patrimonio
A43: Excedentes acumulados | B43: 10 | C43: 1641121695 | D43: 1566286680 | E43: 74835015
A44: Excedentes del período | B44: 10 | C44: 99442023 | D44: 74835014 | E44: 24607009
A45: Total patrimonio | C45: 1740563718 | D45: 1641121694 | E45: 99442024
A46: Total pasivo y patrimonio | C46: 3177857025 | D46: 3094875474 | E46: 82981551
A48: Las notas son parte integral de los estados financieros | D48: =+D26-D46 -> 0
...

Sheet Flujo Efectivo Auditoria
B1: COLEGIO DE PROFESIONALES EN PSICOLOGIA DE COSTA RICA
B2: ESTADO DE FLUJOS DE EFECTIVOS
B3: Por el período terminado el 31 diciembre 2018 al 31 de Marzo 2019 (Auditoria)
B4: (Expresados en colones costarricenses)
C6: 2019 | D6: 2018
B7: Actividades de Operación
B8: Excedentes del período | C8: =+'Compar.Balance Auditoria '!C44 -> #REF! | D8: 74835014 | K8: 74835014
B10: Cargas a las operaciones que no requieros efectivo
B11: Depreciaciones y Amortizaciones | C11: =-'Compar.Balance Auditoria '!E16-'Compar.Balance Auditoria '!E23 -> #REF! | D11: -63281328 | F11: 43466 | G11: 43497 | H11: 43525 | I11: Variacion Estimación | K11: -63281328
B12: Estimaciones para incobrables | C12: =+I12 -> #REF! | D12: 7461276.5 | F12: 75678.147 | G12: =+#REF! -> #REF! | H12: 76589.85 | I12: =SUM(F12:H12) -> #REF! | K12: 7461276.5
B13: Sub-total | C13: =SUM(C8:C12) -> #REF! | D13: =SUM(D8:D12) -> 19014962 | K13: 19014962
B14: Efectivo neto Provisto usado en Actividades de Operación
B15: Cambios en activos y pasivos referentes a operaciones
B16: (Aumentos / Disminuciones)
B17: Cuentas por cobrar | C17: =-'Compar.Balance Auditoria '!E10-'Flujo Efectivo Auditoria'!C12 -> #REF! | D17: 30558005 | K17: 30558005
B18: Gastos prepagados | C18: =-'Compar.Balance Auditoria '!E11 -> #REF! | D18: 8431238.5 | K18: 8431238.5
B19: Cuentas a pagar | C19: =+'Compar.Balance Auditoria '!E30 -> #REF! | D19: 1475905 | K19: 1475905
B20: Retenciones | C20: =+'Compar.Balance Auditoria '!E31 -> #REF! | D20: -45257146 | K20: -45257146
B21: Gastos acumulados | C21: 0 | D21: 0 | K21: 0
B22: Liquidación de intereses a cobrar colegiados | C22: 0 | D22: 0 | K22: 0
B23: Ingresos Diferidos | C23: =+'Compar.Balance Auditoria '!E32 -> #REF! | D23: 17005975 | K23: 17005975
B24: Provisiones por pagar | C24: =+'Compar.Balance Auditoria '!E34 -> #REF! | D24: -6557139 | K24: -6557139
B25: Sub-total | C25: =SUM(C17:C24) -> #REF! | D25: =SUM(D17:D24) -> 5656838.4 | K25: 5656838.4
B27: Efectivo neto provisto en actividades de operación | C27: =+C13+C25 -> #REF! | D27: =+D13+D25 -> 24671801 | K27: 24671801
B29: Efectivo neto (Usado) en Actividades de Inversión)
B30: Actividades de Inversión
B31: (Aumentos / Disminuciones)
B32: Propiedad, planta y equipo | C32: =-'Comparativo Balance Situación'!E15 -> -11256107 | D32: -2.9286655e+08 | K32: -2.9286655e+08
B33: Otros activos | C33: =-'Compar.Balance Auditoria '!E22 -> #REF! | D33: 9115139 | K33: 9115139
B34: Efectivo neto usado en actividades de inversión | C34: =SUM(C32:C33) -> #REF! | D34: =SUM(D32:D33) -> -2.8375142e+08 | K34: -2.8375142e+08
B36: Efectivo neto (Usado) en Actividades de Financiamiento
B37: Prestamos Bancarios | C37: =+'Compar.Balance Auditoria '!E38 -> #REF! | D37: 124151843 | K37: 124151843
B38: Efectivo neto usado en Actividades de Financiamiento | C38: =SUM(C37) -> #REF! | D38: =SUM(D37) -> 124151843 | K38: 124151843
B41: (Aumento / Disminución) Efectivo | C41: =+C27+C34+C38 -> #REF! | D41: -1.3492777e+08 | K41: -1.3492777e+08
B42: Disponibilidad e Inversión al inicio del período | C42: =+'Comparativo Balance Situación'!D8+'Comparativo Balance Situación'!D9 -> 417384752 | D42: 552312522 | K42: 552312522
C43: =SUM(C41:C42) -> #REF! | D43: =SUM(D41:D42) -> 4.1738475e+08 | K43: 4.1738475e+08
C44: =+'Compar.Balance Auditoria '!C8+'Compar.Balance Auditoria '!C9 -> #REF!
C45: =+C43-C44 -> #REF!
B48: Lic. Erick Raynolds Quiros
B49: CPA 2098
...

Sheet Compar.Balance Auditoria 
A1: Colegio de Profesionales en Psicología de Costa Rica
A2: Balance de Situación Comparativo
A3: Periodos Comprendidos entre 31 de Diciembre 2018 al 31 de Marzo 2019 (Auditoria)
A4: (Expresados en colones costarricenses)
E5: Analisis Diferencias
A6: ACTIVOS | B6: NOTAS | C6: 2019 | D6: 2018
A7: Activos corrientes
A8: Caja y Bancos | B8: 3 | C8: =+#REF! -> #REF! | D8: 67829056 | E8: =+C8-D8 -> #REF!
A9: Inversiones transitorias | B9: 4 | C9: =+#REF! -> #REF! | D9: 3.495557e+08 | E9: =+C9-D9 -> #REF!
A10: Cuentas a cobrar | B10: 5 | C10: =+#REF! -> #REF! | D10: 3.9861068e+08 | E10: =+C10-D10 -> #REF!
A11: Gastos prepagados | B11: 6 | C11: =+#REF! -> #REF! | D11: 12424669 | E11: =+C11-D11 -> #REF!
A12: Total activos corrientes | C12: =SUM(C8:C11) -> #REF! | D12: =SUM(D8:D11) -> 8.284201e+08 | E12: =SUM(E8:E11) -> #REF!
A14: Activos no corrientes
A15: Propiedad, planta y Equipo | B15: 7 | C15: =+#REF! -> #REF! | D15: 2.3397077e+09 | E15: =+C15-D15 -> #REF!
A16: Depreciación Acumulada | B16: 7 | C16: =+#REF! -> #REF! | D16: -80289179 | E16: =+C16-D16 -> #REF!
A17: Total activos no corrientes | C17: =SUM(C15:C16) -> #REF! | D17: =SUM(D15:D16) -> 2.2594186e+09 | E17: =SUM(E15:E16) -> #REF!
A19: Otros activos
A20: Depósitos en Garantía | B20: 8 | C20: =+#REF! -> #REF! | D20: 530280.4 | E20: =+C20-D20 -> #REF!
A21: Fondos Restringidos | B21: 8 | C21: =+#REF! -> #REF! | D21: 906204.44 | E21: =+C21-D21 -> #REF!
A22: Sistema Informático | B22: 8 | C22: =+#REF! -> #REF! | D22: 36066825 | E22: =+C22-D22 -> #REF!
A23: Amortización acum.Sistema Informático | B23: 8 | C23: =+#REF! -> #REF! | D23: -30466504 | E23: =+C23-D23 -> #REF!
C24: =SUM(C20:C23) -> #REF! | D24: =SUM(D20:D23) -> 7036805.1 | E24: =SUM(E20:E23) -> #REF!
A26: Total activos | C26: =+C12+C17+C24 -> #REF! | D26: =+D12+D17+D24 -> 3.0948755e+09 | E26: =+E12+E17+E24 -> #REF!
A28: PASIVOS Y PATRIMONIO
A29: Pasivos corrientes
A30: Cuentas por pagar proveedores | B30: 9 | C30: =+#REF! -> #REF! | D30: 11177147 | E30: =+C30-D30 -> #REF!
A31: Retenciones a pagar | B31: 9 | C31: =+#REF! -> #REF! | D31: 11367337 | E31: =+C31-D31 -> #REF!
A32: =+#REF! -> #REF! | B32: 9 | C32: =+#REF! -> #REF! | D32: 47497286 | E32: =+C32-D32 -> #REF!
A33: Gastos acumulados | C33: =+#REF! -> #REF! | D33: 0 | E33: =+C33-D33 -> #REF!
A34: Provisiones por pagar | B34: 9 | C34: =+#REF! -> #REF! | D34: 27854127 | E34: =+C34-D34 -> #REF!
A35: Pasivos corrientes | C35: =SUM(C30:C34) -> #REF! | D35: =SUM(D30:D34) -> 97895896 | E35: =SUM(E30:E34) -> #REF!
A37: Pasivos No Corrientes
A38: Préstamo Largo Plazo | B38: 9 | C38: =+#REF! -> #REF! | D38: 1.3558579e+09 | E38: =+C38-D38 -> #REF!
A39: Total Pasivos NO Corrientes | C39: =+C38 -> #REF! | D39: =SUM(D38) -> 1.3558579e+09 | E39: =+C39-D39 -> #REF!
A42: Patrimonio
A43: Excedentes acumulados | B43: 10 | C43: =+#REF! -> #REF! | D43: 1566286680 | E43: =+C43-D43 -> #REF!
A44: Excedentes del período | B44: 10 | C44: =+#REF! -> #REF! | D44: 74835014 | E44: =+C44-D44 -> #REF!
A45: Total patrimonio | C45: =SUM(C43:C44) -> #REF! | D45: =SUM(D43:D44) -> 1641121694 | E45: =+C45-D45 -> #REF!
A46: Total pasivo y patrimonio | C46: =+C35+C45+C39 -> #REF! | D46: =+D35+D45+D39 -> 3.0948755e+09 | E46: =+E35+E39+E45 -> #REF!
A48: Las notas son parte integral de los estados financieros | D48: =+D46-D26 -> 0.03000021
...
